BEGIN:VCALENDAR
VERSION:2.0
PRODID:-//SP Rorschach Stadt am See - ECPv6.15.6//NONSGML v1.0//EN
CALSCALE:GREGORIAN
METHOD:PUBLISH
X-WR-CALNAME:SP Rorschach Stadt am See
X-ORIGINAL-URL:https://sp-rorschach.ch
X-WR-CALDESC:Veranstaltungen im SP Rorschach Stadt am See
REFRESH-INTERVAL;VALUE=DURATION:PT1H
X-Robots-Tag:noindex
X-PUBLISHED-TTL:PT1H
BEGIN:VTIMEZONE
TZID:Europe/Zurich
BEGIN:DAYLIGHT
TZOFFSETFROM:+0100
TZOFFSETTO:+0200
TZNAME:CEST
DTSTART:20250330T010000
END:DAYLIGHT
BEGIN:STANDARD
TZOFFSETFROM:+0200
TZOFFSETTO:+0100
TZNAME:CET
DTSTART:20251026T010000
END:STANDARD
BEGIN:DAYLIGHT
TZOFFSETFROM:+0100
TZOFFSETTO:+0200
TZNAME:CEST
DTSTART:20260329T010000
END:DAYLIGHT
BEGIN:STANDARD
TZOFFSETFROM:+0200
TZOFFSETTO:+0100
TZNAME:CET
DTSTART:20261025T010000
END:STANDARD
BEGIN:DAYLIGHT
TZOFFSETFROM:+0100
TZOFFSETTO:+0200
TZNAME:CEST
DTSTART:20270328T010000
END:DAYLIGHT
BEGIN:STANDARD
TZOFFSETFROM:+0200
TZOFFSETTO:+0100
TZNAME:CET
DTSTART:20271031T010000
END:STANDARD
END:VTIMEZONE
BEGIN:VEVENT
DTSTART;TZID=Europe/Zurich:20260508T193000
DTEND;TZID=Europe/Zurich:20260508T220000
DTSTAMP:20260423T123137
CREATED:20260422T143954Z
LAST-MODIFIED:20260422T143954Z
UID:88604-1778268600-1778277600@sp-rorschach.ch
SUMMARY:SP Hauptversammlung 2026
DESCRIPTION:Traktandenliste_HV2026 \nAn- Abmeldungen online oder per Mail an sektion@sp-rorschachstadtamsee.ch
URL:https://sp-rorschach.ch/veranstaltung/sp-hauptversammlung-2026/
LOCATION:Pizzeria Roma\, Hauptstrasse 54\, Rorschach\, 9400\, Switzerland
CATEGORIES:Hauptversammlung
END:VEVENT
END:VCALENDAR